BEGIN:VCALENDAR
VERSION:2.0
PRODID:-//Houston-Galveston Clean Cities Coalition - ECPv6.15.3//NONSGML v1.0//EN
CALSCALE:GREGORIAN
METHOD:PUBLISH
X-WR-CALNAME:Houston-Galveston Clean Cities Coalition
X-ORIGINAL-URL:https://www.houston-cleancities.org
X-WR-CALDESC:Events for Houston-Galveston Clean Cities Coalition
REFRESH-INTERVAL;VALUE=DURATION:PT1H
X-Robots-Tag:noindex
X-PUBLISHED-TTL:PT1H
BEGIN:VTIMEZONE
TZID:America/Chicago
BEGIN:DAYLIGHT
TZOFFSETFROM:-0600
TZOFFSETTO:-0500
TZNAME:CDT
DTSTART:20260308T080000
END:DAYLIGHT
BEGIN:STANDARD
TZOFFSETFROM:-0500
TZOFFSETTO:-0600
TZNAME:CST
DTSTART:20261101T070000
END:STANDARD
END:VTIMEZONE
BEGIN:VEVENT
DTSTART;VALUE=DATE:20260408
DTEND;VALUE=DATE:20260410
DTSTAMP:20260423T111915
CREATED:20260126T200850Z
LAST-MODIFIED:20260126T201055Z
UID:3222-1775606400-1775779199@www.houston-cleancities.org
SUMMARY:Future of RNG North America 2026
DESCRIPTION:Future of Renewable Natural Gas North America 2026 is for producers and project owners who already understand the market and are now focused on one priority: how to create lasting value in a more mature\, selective environment. The event brings together plant owners\, developers\, utilities\, investors\, traders and solution providers to explore the next phase of growth for renewable natural gas in North America.
URL:https://www.houston-cleancities.org/event/future-of-rng-north-america-2026/
LOCATION:TBD – Houston
END:VEVENT
END:VCALENDAR