BEGIN:VCALENDAR
VERSION:2.0
PRODID:-//Houston-Galveston Clean Cities Coalition - ECPv6.15.3//NONSGML v1.0//EN
CALSCALE:GREGORIAN
METHOD:PUBLISH
X-WR-CALNAME:Houston-Galveston Clean Cities Coalition
X-ORIGINAL-URL:https://www.houston-cleancities.org
X-WR-CALDESC:Events for Houston-Galveston Clean Cities Coalition
REFRESH-INTERVAL;VALUE=DURATION:PT1H
X-Robots-Tag:noindex
X-PUBLISHED-TTL:PT1H
BEGIN:VTIMEZONE
TZID:America/Chicago
BEGIN:DAYLIGHT
TZOFFSETFROM:-0600
TZOFFSETTO:-0500
TZNAME:CDT
DTSTART:20240310T080000
END:DAYLIGHT
BEGIN:STANDARD
TZOFFSETFROM:-0500
TZOFFSETTO:-0600
TZNAME:CST
DTSTART:20241103T070000
END:STANDARD
BEGIN:DAYLIGHT
TZOFFSETFROM:-0600
TZOFFSETTO:-0500
TZNAME:CDT
DTSTART:20250309T080000
END:DAYLIGHT
BEGIN:STANDARD
TZOFFSETFROM:-0500
TZOFFSETTO:-0600
TZNAME:CST
DTSTART:20251102T070000
END:STANDARD
END:VTIMEZONE
BEGIN:VEVENT
DTSTART;TZID=America/Chicago:20250724T100000
DTEND;TZID=America/Chicago:20250724T110000
DTSTAMP:20260423T190848
CREATED:20250626T153626Z
LAST-MODIFIED:20250626T153626Z
UID:3080-1753351200-1753354800@www.houston-cleancities.org
SUMMARY:Innovative EV Charging Solutions Webinar
DESCRIPTION:Join the Texas Clean Cities and Communities Coalitions for a webinar on exciting\, innovative\, and unique electric vehicle charging technologies! This webinar will feature guest speakers from Beam\, XCharge\, and AK Power Solutions\, who will present the specific energy management & resiliency applications that their products can help solve. The webinar will take place via Microsoft Teams on Thursday\, July 24 from 10:00am – 11:00am CT. Please register for the event here.
URL:https://www.houston-cleancities.org/event/innovative-ev-charging-solutions-webinar/
LOCATION:TX
END:VEVENT
BEGIN:VEVENT
DTSTART;TZID=America/Chicago:20250722T120000
DTEND;TZID=America/Chicago:20250722T133000
DTSTAMP:20260423T190848
CREATED:20250626T154423Z
LAST-MODIFIED:20250626T154423Z
UID:3082-1753185600-1753191000@www.houston-cleancities.org
SUMMARY:Houston-Galveston Clean Cities Coalition Stakeholder Meeting
DESCRIPTION:SAVE THE DATE!!! \nOur guest presenter will be Mr. Dan Goff of Kodiak.  He will be presenting on autonomous trucking. \nWe will also be presenting on the final draft of the Annual Report\, and grant funding opportunities. \nStaff will update this page with other meeting particulars as they develop.
URL:https://www.houston-cleancities.org/event/houston-galveston-clean-cities-coalition-stakeholder-meeting-8/
LOCATION:TX
END:VEVENT
BEGIN:VEVENT
DTSTART;VALUE=DATE:20250606
DTEND;VALUE=DATE:20250608
DTSTAMP:20260423T190848
CREATED:20250213T223457Z
LAST-MODIFIED:20250213T223457Z
UID:3023-1749168000-1749340799@www.houston-cleancities.org
SUMMARY:2025 TXSWANA State Road-E-O
DESCRIPTION:The City of Houston Solid Waste Department is proud to host the 2025 TXSWANA Trash Truck Road-E-O.  This highly anticipated annual competition brings together top professionals from across Texas in the solid waste industry to showcase their exceptional truck driving\, equipment operating\, and mechanical skills.  Come out to support those who keep our communities running smoothly.
URL:https://www.houston-cleancities.org/event/2025-txswana-state-road-e-o/
LOCATION:Houston Livestock Properties\, 2098 Reed Rd.\, Houston\, TX\, 77051\, United States
END:VEVENT
BEGIN:VEVENT
DTSTART;VALUE=DATE:20250428
DTEND;VALUE=DATE:20250502
DTSTAMP:20260423T190848
CREATED:20250213T221637Z
LAST-MODIFIED:20250213T221637Z
UID:3019-1745798400-1746143999@www.houston-cleancities.org
SUMMARY:Advanced Clean Transportation (ACT) Expo 2025
DESCRIPTION:Participate in four days of education spotlighting the latest trends\, policies\, solutions\, and technologies transforming advanced clean transportation.  Also discover an expanded Expo Hall featuring hundreds of exhibitors showcasing the most advanced vehicle technologies and clean fuels available in the marketplace today. \n  \nIf you are a coalition stakeholder\, e-mail ben.finley@h-gac.com for a code to receive $100 off of registration.
URL:https://www.houston-cleancities.org/event/advanced-clean-transportation-act-expo-2025/
LOCATION:TX
END:VEVENT
BEGIN:VEVENT
DTSTART;VALUE=DATE:20250420
DTEND;VALUE=DATE:20250424
DTSTAMP:20260423T190848
CREATED:20250213T224207Z
LAST-MODIFIED:20250213T224207Z
UID:3026-1745107200-1745452799@www.houston-cleancities.org
SUMMARY:2025 TXSWANA Annual Conference
DESCRIPTION:The 2025 TxSWANA Annual Conference is the premier event for solid waste education and trade in Texas\, offering attendees an exciting opportunity to explore the latest in equipment\, waste management trends\, and regulatory updates. \nThis dynamic conference is designed to maximize the value of your TxSWANA investment\, providing attendees with the chance to earn continuing education units while connecting with industry peers to exchange ideas and best practices. Don’t miss out—join hundreds of professionals for engaging facility tours\, cutting-edge technical sessions\, vibrant exhibits\, and unmatched networking opportunities!
URL:https://www.houston-cleancities.org/event/2025-txswana-annual-conference/
LOCATION:Palmer Events Center\, 900 Barton Springs Rd\, Austin\, TX\, 78704\, United States
END:VEVENT
BEGIN:VEVENT
DTSTART;VALUE=DATE:20250419
DTEND;VALUE=DATE:20250427
DTSTAMP:20260423T190848
CREATED:20250325T201919Z
LAST-MODIFIED:20250325T201919Z
UID:3048-1745020800-1745711999@www.houston-cleancities.org
SUMMARY:Drive Electric Month - Earth Day Events
DESCRIPTION:Bring your EV and tell the public what it’s like to live electric!  Events are: \n\nDiscovery Green Earth Day\n\nApril 19\nDiscovery Green\n1500 McKinney\nHouston\, TX 77010\n\n\nAmericas Tower Sustainability Day\n\nApril 22\nAmerica Tower\n2929 Allen Parkway\nHouston\, TX 77019\n\n\nHouston IKEA Earth Day Event\n\nApril 26\nIKEA Houston\n7810 Katy Frwy\nHouston\, TX 77024
URL:https://www.houston-cleancities.org/event/drive-electric-month-earth-day-events/
LOCATION:TX
END:VEVENT
BEGIN:VEVENT
DTSTART;VALUE=DATE:20250417
DTEND;VALUE=DATE:20250418
DTSTAMP:20260423T190848
CREATED:20250317T201818Z
LAST-MODIFIED:20250317T201818Z
UID:3037-1744848000-1744934399@www.houston-cleancities.org
SUMMARY:Grand Opening - Hermann Total Distribution Services
DESCRIPTION:Hermann Total Distribution Services is one of our newest Stakeholders.  They have invited fellow stakeholders to the GRAND OPENING of their state-of-the-art facility.  Please drop by 3520 East Sam Houston Parkway N.\, Houston Tx. 77530 on April 17 to meet\, mingle\, and learn more.
URL:https://www.houston-cleancities.org/event/grand-opening-hermann-total-distribution-services/
LOCATION:Hermann Warehouses\, 3520 East Sam Houston Parkway N.\, Houston\, 77530\, United States
END:VEVENT
BEGIN:VEVENT
DTSTART;TZID=America/Chicago:20250407T080000
DTEND;TZID=America/Chicago:20250407T140000
DTSTAMP:20260423T190848
CREATED:20250325T202809Z
LAST-MODIFIED:20250325T202809Z
UID:3050-1744012800-1744034400@www.houston-cleancities.org
SUMMARY:Workshop: Global Perspective on Hydrogen Refueling
DESCRIPTION:Join us for an immersive co-creation workshop that delves into the critical elements shaping the future of the global hydrogen refueling landscape. As the world transitions towards alternative energy sources for transportation\, effective deployment of hydrogen refueling infrastructure hinges on several key factors such as geography\, resource availability\, existing infrastructure\, and policy. This workshop will explore how these factors influence the design\, development and deployment of hydrogen refueling infrastructure across different countries.
URL:https://www.houston-cleancities.org/event/workshop-global-perspective-on-hydrogen-refueling/
LOCATION:University of Houston Business Building (Room 328)\, 4455 University Dr\, Houston\, TX\, 77204\, United States
END:VEVENT
BEGIN:VEVENT
DTSTART;TZID=America/Chicago:20250403T130000
DTEND;TZID=America/Chicago:20250403T140000
DTSTAMP:20260423T190848
CREATED:20250325T203625Z
LAST-MODIFIED:20250325T203625Z
UID:3053-1743685200-1743688800@www.houston-cleancities.org
SUMMARY:Optimizing Electrification and EV Infrastructure for Public School Fleets
DESCRIPTION:Please join us for our latest installment of our Webinar Series\, “Perspectives: School Bus Fleet Electrification”. Mary and David from Sawatch Labs as they discuss the importance of using vehicle data to guide your school bus electrification journey. Using vehicle data to drive your electrification plans will save you time\, money\, and future headaches. The presentation will be followed by a question and answer session.
URL:https://www.houston-cleancities.org/event/optimizing-electrification-and-ev-infrastructure-for-public-school-fleets/
LOCATION:TX
END:VEVENT
BEGIN:VEVENT
DTSTART;TZID=America/Chicago:20250325T120000
DTEND;TZID=America/Chicago:20250325T133000
DTSTAMP:20260423T190848
CREATED:20250317T195646Z
LAST-MODIFIED:20250317T195646Z
UID:3032-1742904000-1742909400@www.houston-cleancities.org
SUMMARY:2025-Q1 Stakeholder Meeting
DESCRIPTION:We’re excited to announce that the next Clean Cities Stakeholders meeting will take place on March 25th from 12:00 to 1:30 (CST).  The meeting will be held online via Microsoft Teams\, with an option to attend in person at H-GAC Conference Room A (2nd floor) at 3555 Timmons Lane\, Houston\, TX 77027. \n  \nIn-Person Attendance Details: \n\nFree parking is available in the garage attached to the building.\nPlease arrive before 12:00 PM to sign in at the reception desk on the 1st floor.\nLunch will not be provided—feel free to bring your own.
URL:https://www.houston-cleancities.org/event/2025-q1-stakeholder-meeting/
LOCATION:H-GAC\, Room A\, 3555 Timmons Lane\, 2nd Floor\, Room A\, Houston\, TX\, 77027\, United States
END:VEVENT
BEGIN:VEVENT
DTSTART;VALUE=DATE:20250319
DTEND;VALUE=DATE:20250320
DTSTAMP:20260423T190848
CREATED:20250317T195235Z
LAST-MODIFIED:20250317T195235Z
UID:3030-1742342400-1742428799@www.houston-cleancities.org
SUMMARY:Texas Hydrogen Day
DESCRIPTION:Welcome to Texas Hydrogen Day! Join the Texas Hydrogen Alliance and others on Wed\, Mar 19\, 2025 at 8:30 AM at the Texas Capitol for a day filled with exciting discussions\, presentations\, and networking opportunities all centered around the future of hydrogen technology. Learn from industry experts\, discover the latest innovations\, and connect with like-minded individuals. Don’t miss out on this unique chance to be part of the hydrogen revolution! \nOnline registration is required by close of business on Monday\, March 17. \nSave your seat now: https://www.eventbrite.com/e/1268070897189?aff=oddtdtcreator
URL:https://www.houston-cleancities.org/event/texas-hydrogen-day/
LOCATION:TX
ORGANIZER;CN="Texas Hydrogen Alliance":MAILTO:susan@s3-services.com
END:VEVENT
BEGIN:VEVENT
DTSTART;VALUE=DATE:20250224
DTEND;VALUE=DATE:20250227
DTSTAMP:20260423T190848
CREATED:20250213T221057Z
LAST-MODIFIED:20250213T221057Z
UID:3016-1740355200-1740614399@www.houston-cleancities.org
SUMMARY:Ethanol Emergency Response Seminar
DESCRIPTION:Please join the Renewable Fuels Association and TRANSCAER® for the Ethanol Emergency Response Safety Seminar in El Paso\, TX.  Attendees will receive in-depth information on proper training techniques that emergency responders and hazmat personnel need to effectively respond to an ethanol-related emergency.  This session is FREE to attend and open to the public.
URL:https://www.houston-cleancities.org/event/ethanol-emergency-response-seminar/
LOCATION:911 Regional Communications Center\, 6055 Threadgill\, El Paso\, TX\, 79924\, United States
END:VEVENT
BEGIN:VEVENT
DTSTART;TZID=America/Chicago:20241208T150000
DTEND;TZID=America/Chicago:20241208T180000
DTSTAMP:20260423T190848
CREATED:20241204T150332Z
LAST-MODIFIED:20241204T150332Z
UID:3007-1733670000-1733680800@www.houston-cleancities.org
SUMMARY:Houston Electric Vehicle Association December Social
DESCRIPTION:The Houston Eletric Vehicle Association (EVA) is holding their December Social at Katz Deli.  Not only is this an opportunity to learn more about personal electric vehicles and meet several fantastic people\, but this is also a gift drive. If you will be attending the Holiday Social the 8th you can bring a small toy\, stuffed animal\, doll\, action figure\, game or children’s book. 
URL:https://www.houston-cleancities.org/event/houston-electric-vehicle-association-december-social/
LOCATION:5930 Westheimer Rd.\, Houston\, Tx. 77507\, 5930 Westheimer Rd\, Houston\, TX\, 77507\, United States
END:VEVENT
BEGIN:VEVENT
DTSTART;TZID=America/Chicago:20241113T120000
DTEND;TZID=America/Chicago:20241113T130000
DTSTAMP:20260423T190848
CREATED:20240919T222155Z
LAST-MODIFIED:20241023T213123Z
UID:2980-1731499200-1731502800@www.houston-cleancities.org
SUMMARY:Lunch & Learn: Federal Tax Credits for Alternative Fuels & Clean Vehicles
DESCRIPTION:The Inflation Reduction Act of 2022 has extended the $0.50/Gallon Natural Gas/Propane Federal Motor Fuel Tax Credit through December 31\, 2024.  If you own natural gas or propane: vehicles and/or forklifts and fuel at your refueling site\, you are eligible to claim the credit. This includes public fleets\, non-profits\, and private companies. You do not need to pay taxes to claim the\ncredit. \nLearn about the “NEW” up to $40\,000 Commercial Clean Vehicle Tax Credit for Electric Vehicles. You do not need to pay taxes to claim the credit. \nCLICK HERE to register
URL:https://www.houston-cleancities.org/event/alternative-fuel-motor-fuel-tax-credit-webinar/
LOCATION:TX
END:VEVENT
BEGIN:VEVENT
DTSTART;VALUE=DATE:20241108
DTEND;VALUE=DATE:20241109
DTSTAMP:20260423T190848
CREATED:20241023T213623Z
LAST-MODIFIED:20241023T213623Z
UID:2990-1731024000-1731110399@www.houston-cleancities.org
SUMMARY:Virtual Power Plants 101: Unlocking Grid Resilience and Local Government Opportunities
DESCRIPTION:This will be a half-day event\, with the first part focused on discussing actionable steps to support the residential deployment of DERs\, including technologies such as smart thermostats\, rooftop solar\, home batteries\, and electric vehicles. The second half of the day will focus on how to support aggregations of DERs (also known as ADERs or VPPs) to enhance grid resilience. \nThis event will provide an excellent opportunity to connect with other local government staff working on similar initiatives.
URL:https://www.houston-cleancities.org/event/virtual-power-plants-101-unlocking-grid-resilience-and-local-government-opportunities/
LOCATION:Deputy Darren Almendarez Community Center\, 10918 Bentley St.\, Houston\, TX\, 77093\, United States
END:VEVENT
BEGIN:VEVENT
DTSTART;TZID=America/Chicago:20240924T120000
DTEND;TZID=America/Chicago:20240924T140000
DTSTAMP:20260423T190848
CREATED:20240919T222501Z
LAST-MODIFIED:20240919T222501Z
UID:2983-1727179200-1727186400@www.houston-cleancities.org
SUMMARY:2024 Q3 Stakeholder Meeting
DESCRIPTION:The 2024 Quarter 3 Houston Clean Cities Stakeholders Meeting will have discussions on  Microgrids\, Hydrogen Infrastructure Project\, the Annual Survey\, and updates from subcommittees to include availability of grant funds. \nPlease complete this form to attend:  Attendee Form 
URL:https://www.houston-cleancities.org/event/2024-q3-stakeholder-meeting/
LOCATION:TX
END:VEVENT
BEGIN:VEVENT
DTSTART;VALUE=DATE:20240916
DTEND;VALUE=DATE:20240919
DTSTAMP:20260423T190848
CREATED:20240119T151838Z
LAST-MODIFIED:20240119T151838Z
UID:2839-1726444800-1726703999@www.houston-cleancities.org
SUMMARY:Fleetcon 2024: Over the Horizon
DESCRIPTION:FleetCon is the fleet education event for all fleet personnel\, suppliers\, and all types of fleets. The annual event combines education\, networking\, and introductions to new technologies\, innovations\, and solutions. Join others in the fleet industry and learn with – and from – some of the best!
URL:https://www.houston-cleancities.org/event/fleetcon-2024-over-the-horizon/
LOCATION:Galveston Island Convention Center\, 5222 Seawall Bl.\, Galveston\, TX\, 77551\, United States
ORGANIZER;CN="FleetPros":MAILTO:business.manager@fleetpros.org
END:VEVENT
BEGIN:VEVENT
DTSTART;TZID=America/Chicago:20240912T183000
DTEND;TZID=America/Chicago:20240912T203000
DTSTAMP:20260423T190848
CREATED:20240621T144435Z
LAST-MODIFIED:20240621T144435Z
UID:2957-1726165800-1726173000@www.houston-cleancities.org
SUMMARY:Houston Electric Vehicle Association (EVA) Electric Drive Month Event
DESCRIPTION:The Houston Electric Vehicle Association (EVA) invites you to Ikea to meet with their membership and celebrate Electric Drive Month.
URL:https://www.houston-cleancities.org/event/houston-electric-vehicle-association-eva-electric-drive-month-event/
LOCATION:IKEA Houston\, 7810 Katy Fwy\, TX\, 77024\, United States
END:VEVENT
BEGIN:VEVENT
DTSTART;VALUE=DATE:20240813
DTEND;VALUE=DATE:20240816
DTSTAMP:20260423T190848
CREATED:20240722T150557Z
LAST-MODIFIED:20240722T151506Z
UID:2962-1723507200-1723766399@www.houston-cleancities.org
SUMMARY:2024 Sustainable Fleet Technology Conference & Expo
DESCRIPTION:The 2024 Sustainable Fleet Technology Conference will be held at the Durham Convention Center\, in Durham\, North Carolina.  The Sustainable Fleet Technology Conference & Expo brings together leading fleets and technology providers to share industry ideas\, trends\, strategies and technologies. In each session\, expert speakers will showcase the latest and greatest transportation technologies\, fuels and trends with a strong focus on data driven decisions and tools. \nExhibitors and expert speakers will share innovative resources for improving efficiency and sustainability of fleet operations. The full two-day event includes keynote presentations\, 60+ panelists\, 12 breakout sessions\, an expo hall with space for indoor vehicle/equipment display\, and an opportunity to network with 400+ attendees. \nThe conference will have 3 tracks: A) Funding and Planning; B) Advanced Vehicle Technologies; and C) Fueling and Charging.
URL:https://www.houston-cleancities.org/event/2024-sustainable-fleet-technology-conference-expo/
LOCATION:TX
END:VEVENT
BEGIN:VEVENT
DTSTART;VALUE=DATE:20240806
DTEND;VALUE=DATE:20240808
DTSTAMP:20260423T190848
CREATED:20240722T151030Z
LAST-MODIFIED:20240722T151150Z
UID:2964-1722902400-1723075199@www.houston-cleancities.org
SUMMARY:Ethanol Safety Seminar
DESCRIPTION:The Ethanol Safety Seminar will be held at the West Central Texas Council of Governments in Abilene Tx.  Get an in-depth look at proper training techniques needed when responding to an ethanol-related emergency. \n 
URL:https://www.houston-cleancities.org/event/ethanol-safety-seminar/
LOCATION:TX
END:VEVENT
BEGIN:VEVENT
DTSTART;TZID=America/Chicago:20240731T090000
DTEND;TZID=America/Chicago:20240731T120000
DTSTAMP:20260423T190848
CREATED:20240722T153054Z
LAST-MODIFIED:20240722T153202Z
UID:2966-1722416400-1722427200@www.houston-cleancities.org
SUMMARY:Center for Houston's Future Clean Hydrogen Workshop
DESCRIPTION:The workshop is part of the work program being undertaken by the Center’s Hydrogen Steering Committee to develop a better understanding of the emerging Gulf Coast Clean hydrogen ecosystem. The specific purpose of this meeting on clean hydrogen mobility and transportation projects is to discuss and look for potential synergies among the various clean hydrogen transportation projects currently being developed in Texas and along the Gulf Coast. \n  \nPlease RSVP for this meeting by clicking on this link: Transportation – Registration Link \nIf you have questions about the meeting itself\, please contact me at (281) 686-1030. If you have questions about logistics\, please contact Jennifer Beers at (713) 591-6354. 
URL:https://www.houston-cleancities.org/event/center-for-houstons-future-clean-hydrogen-workshop/
LOCATION:Partnership Tower\, 701 Avenida las Americas\, Houston\, 77010\, United States
END:VEVENT
BEGIN:VEVENT
DTSTART;VALUE=DATE:20240626
DTEND;VALUE=DATE:20240628
DTSTAMP:20260423T190848
CREATED:20240612T223338Z
LAST-MODIFIED:20240612T223338Z
UID:2932-1719360000-1719532799@www.houston-cleancities.org
SUMMARY:Hydrogen Technology Expo
DESCRIPTION:Hydrogen Technology Conference & Expo is North America’s must-attend exhibition and conference that is exclusively dedicated to discussing advanced technologies for the hydrogen and fuel cell industry. The event brings together the entire hydrogen value chain to focus on developing solutions and innovations for low-carbon hydrogen production\, efficient storage and distribution as well as applications in a variety of stationary and mobile applications.
URL:https://www.houston-cleancities.org/event/hydrogen-technology-expo/
LOCATION:NRG Center: Hall A\, 1 FANNIN ST\, Houston\, TX\, 77054\, United States
END:VEVENT
BEGIN:VEVENT
DTSTART;VALUE=DATE:20240621
DTEND;VALUE=DATE:20240626
DTSTAMP:20260423T190848
CREATED:20240528T225924Z
LAST-MODIFIED:20240528T225924Z
UID:2916-1718928000-1719359999@www.houston-cleancities.org
SUMMARY:Texas Association for Pupil Transportation (TAPT): Conference and Trade Show
DESCRIPTION:TAPT presents their annual conference and trade show each June as an educational event for their membership. The conference includes local\, state and national presenters on topics that address all areas of the pupil transportation industry. They host one of the largest equipment and trade shows in the school bus industry with exhibitors from many of the major school bus manufacturers\, parts suppliers\, technology vendors\, and support service providers. A full complement of TAPT professional development classes are offered to provide attendees the opportunity to develop and grow in the school transportation industry and earn professional credentials widely recognized as the mark of a true pupil transportation professional. Students from around the state are awarded with scholarships and are recognized for their hard work in the school bus safety speech and poster contests. The annual conference also serves as the official business meeting of the organization.
URL:https://www.houston-cleancities.org/event/texas-association-for-pupil-transportation-tapt-conference-and-trade-show/
LOCATION:The American Bank Center\, 1901 North Shoreline Blvd.\, Corpus Christi\, TX\, 78401
END:VEVENT
BEGIN:VEVENT
DTSTART;TZID=America/Chicago:20240618T120000
DTEND;TZID=America/Chicago:20240618T143000
DTSTAMP:20260423T190848
CREATED:20240612T221134Z
LAST-MODIFIED:20240612T224335Z
UID:2921-1718712000-1718721000@www.houston-cleancities.org
SUMMARY:2024 Q2 Stakeholder Meeting and Ride and Drive Event for School Buses
DESCRIPTION:The 2024 Quarter 2 Houston Clean Cities Stakeholders Meeting will have discussions on the Annual Survey\, Success Story from Cypress – Fairbanks ISD\, and updates from subcommittees to include availability of grant funds. \nIf attending in person\, please remain for the Ride and Drive event to be held directly afterwards. \nPlease complete this form to attend:  Attendee Form 
URL:https://www.houston-cleancities.org/event/2024-q2-stakeholder-meeting-and-ride-and-drive-event-for-school-buses/
LOCATION:Cypress Fairbanks SD Jarvis Transportation Center\, 13330 Woods-Spillane\, Cypress\, TX\, 77429\, United States
END:VEVENT
BEGIN:VEVENT
DTSTART;TZID=America/Chicago:20240611T090000
DTEND;TZID=America/Chicago:20240611T153000
DTSTAMP:20260423T190848
CREATED:20240528T214312Z
LAST-MODIFIED:20240528T214312Z
UID:2908-1718096400-1718119800@www.houston-cleancities.org
SUMMARY:North Central Texas Hydrogen User Forum
DESCRIPTION:The North Central Texas Hydrogen User Forum will focus on hydrogen adoption by industries in the DFW region. The forum will allow industry members to hear from their peers about the current and future state of hydrogen\, and give local utility planners (gas\, electric\, hydrogen suppliers) the chance to hear from industry so they can be prepared to meet future needs. Hydrogen technologies can be used in a wide variety of industries. Members of the Transportation\, Natural Gas blending\, Cement\, Steel\, Chip Manufacturing\, Electric Generation\, Glass Manufacturing\, Kiln Operations\, Renewable Fuels\, and Food Processing industries will benefit from this dialogue.
URL:https://www.houston-cleancities.org/event/north-central-texas-hydrogen-user-forum/
LOCATION:UT Arlington\, 300 West 1st Street\, Arlington\, TX
END:VEVENT
BEGIN:VEVENT
DTSTART;TZID=America/Chicago:20240605T110000
DTEND;TZID=America/Chicago:20240605T160000
DTSTAMP:20260423T190848
CREATED:20240528T224715Z
LAST-MODIFIED:20240528T224715Z
UID:2914-1717585200-1717603200@www.houston-cleancities.org
SUMMARY:Webinar: Ethanol Emergency Response & Steel Drum 101
DESCRIPTION:Steel Drums 101 Seminar – Provide First Responders with helpful information to better comprehend the components of steel drums. From understanding the difference between an open-head and a\ntight-head steel drum to being able to interpret the UN marking. The instructor will dive into the vital safety standards first responders need to know. \nEthanol Safety Seminar – Get an in-depth look at proper training techniques needed when responding to an ethanol – related emergency.
URL:https://www.houston-cleancities.org/event/webinar-ethanol-emergency-response-steel-drum-101/
LOCATION:TX
END:VEVENT
BEGIN:VEVENT
DTSTART;TZID=America/Chicago:20240604T110000
DTEND;TZID=America/Chicago:20240604T130000
DTSTAMP:20260423T190848
CREATED:20240528T224407Z
LAST-MODIFIED:20240528T224407Z
UID:2912-1717498800-1717506000@www.houston-cleancities.org
SUMMARY:Safety Webinar: Ethanol Emergency Response
DESCRIPTION:Upon the completion of this course\, participants will have knowledge related to ethanol and ethanol-blended fuels including the use\, chemical and physical characteristics\, transportation modes\, transfer operations\, basics of foam\, suggested responder tactics and strategies and environmental issues. \n*Certificates upon successful completion will be emailed following the event
URL:https://www.houston-cleancities.org/event/safety-webinar-ethanol-emergency-response/
LOCATION:TX
END:VEVENT
BEGIN:VEVENT
DTSTART;VALUE=DATE:20240520
DTEND;VALUE=DATE:20240524
DTSTAMP:20260423T190848
CREATED:20231116T165909Z
LAST-MODIFIED:20231116T165909Z
UID:2816-1716163200-1716508799@www.houston-cleancities.org
SUMMARY:Advance Clean Transportation Expo
DESCRIPTION:Las Vegas Convention Center\, Las Vegas\, Nv. \nGain insight into the trends\, technologies\, and policies transforming clean commercial transportation. Fleets attend to: \n\nHear low- and zero-emission vehicle case studies from early adopter fleets\nLearn how to take advantage of vehicle and infrastructure funding opportunities\nUnderstand how to stay ahead of the ever-changing regulatory landscape\nDiscover the latest technologies and services to support fleet sustainability\n\nThe world’s largest OEMs and suppliers present the latest advanced vehicles\, clean fuels\, sustainable transportation technologies and services. \n\nConnect with 300+ sponsors & exhibitors\nSee 250+ low- and zero-emission commercial vehicles\nWatch vehicle unveilings and major announcements live\nParticipate in the advanced commercial vehicle Ride & Drive event\n\n 
URL:https://www.houston-cleancities.org/event/advance-clean-transportation-expo/
LOCATION:TX
END:VEVENT
BEGIN:VEVENT
DTSTART;TZID=America/Chicago:20240417T090000
DTEND;TZID=America/Chicago:20240417T203000
DTSTAMP:20260423T190848
CREATED:20240222T225152Z
LAST-MODIFIED:20240222T225152Z
UID:2880-1713344400-1713385800@www.houston-cleancities.org
SUMMARY:The Gulf Coast Hydrogen Ecosystem: Opportunities & Solutions
DESCRIPTION:UH Energy cordially invites you to attend to this comprehensive exploration of the various aspects surrounding the integration of hydrogen into the energy landscape\, and additionally\, we will examine the opportunities\, solutions\, and benefits of establishing a hydrogen ecosystem. Experts from academia\, industry\, government\, and the community will participate in an in-depth analysis and discussion covering technology\, business\, policy and regulations\, and community impact. A networking reception and poster session will follow the symposium. Lunch and dinner will be provided. \nUH Student Center South – Theater Room
URL:https://www.houston-cleancities.org/event/the-gulf-coast-hydrogen-ecosystem-opportunities-solutions/
LOCATION:University of Houston Student Center – South\, 4455 University Dr\, Houston\, TX\, 77204\, United States
END:VEVENT
BEGIN:VEVENT
DTSTART;TZID=America/Chicago:20240403T120000
DTEND;TZID=America/Chicago:20240403T130000
DTSTAMP:20260423T190848
CREATED:20240318T210308Z
LAST-MODIFIED:20240318T210308Z
UID:2903-1712145600-1712149200@www.houston-cleancities.org
SUMMARY:Roadmap to the Clean Bus Planning Technical Support Program - Online Webinar
DESCRIPTION:The National Renewable Energy Laboratory (NREL)and The Joint Office of Energy and Transportation are working to provide The Clean Bus Planning Awards (CBPA) Program. The CBPA is not an incentive program\, and fleets do not receive direct funding—rather\, selected applicants will be allocated technical assistance resources by NREL. \nYou may register for this free online event at: ZOOM
URL:https://www.houston-cleancities.org/event/roadmap-to-the-clean-bus-planning-technical-support-program-online-webinar/
LOCATION:TX
END:VEVENT
END:VCALENDAR