BEGIN:VCALENDAR
VERSION:2.0
PRODID:-//Houston-Galveston Clean Cities Coalition - ECPv6.15.3//NONSGML v1.0//EN
CALSCALE:GREGORIAN
METHOD:PUBLISH
X-ORIGINAL-URL:https://www.houston-cleancities.org
X-WR-CALDESC:Events for Houston-Galveston Clean Cities Coalition
REFRESH-INTERVAL;VALUE=DURATION:PT1H
X-Robots-Tag:noindex
X-PUBLISHED-TTL:PT1H
BEGIN:VTIMEZONE
TZID:America/Chicago
BEGIN:DAYLIGHT
TZOFFSETFROM:-0600
TZOFFSETTO:-0500
TZNAME:CDT
DTSTART:20230312T080000
END:DAYLIGHT
BEGIN:STANDARD
TZOFFSETFROM:-0500
TZOFFSETTO:-0600
TZNAME:CST
DTSTART:20231105T070000
END:STANDARD
BEGIN:DAYLIGHT
TZOFFSETFROM:-0600
TZOFFSETTO:-0500
TZNAME:CDT
DTSTART:20240310T080000
END:DAYLIGHT
BEGIN:STANDARD
TZOFFSETFROM:-0500
TZOFFSETTO:-0600
TZNAME:CST
DTSTART:20241103T070000
END:STANDARD
END:VTIMEZONE
BEGIN:VEVENT
DTSTART;TZID=America/Chicago:20240912T183000
DTEND;TZID=America/Chicago:20240912T203000
DTSTAMP:20260423T163754
CREATED:20240621T144435Z
LAST-MODIFIED:20240621T144435Z
UID:2957-1726165800-1726173000@www.houston-cleancities.org
SUMMARY:Houston Electric Vehicle Association (EVA) Electric Drive Month Event
DESCRIPTION:The Houston Electric Vehicle Association (EVA) invites you to Ikea to meet with their membership and celebrate Electric Drive Month.
URL:https://www.houston-cleancities.org/event/houston-electric-vehicle-association-eva-electric-drive-month-event/
LOCATION:IKEA Houston\, 7810 Katy Fwy\, TX\, 77024\, United States
END:VEVENT
BEGIN:VEVENT
DTSTART;VALUE=DATE:20240813
DTEND;VALUE=DATE:20240816
DTSTAMP:20260423T163754
CREATED:20240722T150557Z
LAST-MODIFIED:20240722T151506Z
UID:2962-1723507200-1723766399@www.houston-cleancities.org
SUMMARY:2024 Sustainable Fleet Technology Conference & Expo
DESCRIPTION:The 2024 Sustainable Fleet Technology Conference will be held at the Durham Convention Center\, in Durham\, North Carolina.  The Sustainable Fleet Technology Conference & Expo brings together leading fleets and technology providers to share industry ideas\, trends\, strategies and technologies. In each session\, expert speakers will showcase the latest and greatest transportation technologies\, fuels and trends with a strong focus on data driven decisions and tools. \nExhibitors and expert speakers will share innovative resources for improving efficiency and sustainability of fleet operations. The full two-day event includes keynote presentations\, 60+ panelists\, 12 breakout sessions\, an expo hall with space for indoor vehicle/equipment display\, and an opportunity to network with 400+ attendees. \nThe conference will have 3 tracks: A) Funding and Planning; B) Advanced Vehicle Technologies; and C) Fueling and Charging.
URL:https://www.houston-cleancities.org/event/2024-sustainable-fleet-technology-conference-expo/
END:VEVENT
BEGIN:VEVENT
DTSTART;VALUE=DATE:20240806
DTEND;VALUE=DATE:20240808
DTSTAMP:20260423T163754
CREATED:20240722T151030Z
LAST-MODIFIED:20240722T151150Z
UID:2964-1722902400-1723075199@www.houston-cleancities.org
SUMMARY:Ethanol Safety Seminar
DESCRIPTION:The Ethanol Safety Seminar will be held at the West Central Texas Council of Governments in Abilene Tx.  Get an in-depth look at proper training techniques needed when responding to an ethanol-related emergency. \n 
URL:https://www.houston-cleancities.org/event/ethanol-safety-seminar/
END:VEVENT
BEGIN:VEVENT
DTSTART;TZID=America/Chicago:20240731T090000
DTEND;TZID=America/Chicago:20240731T120000
DTSTAMP:20260423T163754
CREATED:20240722T153054Z
LAST-MODIFIED:20240722T153202Z
UID:2966-1722416400-1722427200@www.houston-cleancities.org
SUMMARY:Center for Houston's Future Clean Hydrogen Workshop
DESCRIPTION:The workshop is part of the work program being undertaken by the Center’s Hydrogen Steering Committee to develop a better understanding of the emerging Gulf Coast Clean hydrogen ecosystem. The specific purpose of this meeting on clean hydrogen mobility and transportation projects is to discuss and look for potential synergies among the various clean hydrogen transportation projects currently being developed in Texas and along the Gulf Coast. \n  \nPlease RSVP for this meeting by clicking on this link: Transportation – Registration Link \nIf you have questions about the meeting itself\, please contact me at (281) 686-1030. If you have questions about logistics\, please contact Jennifer Beers at (713) 591-6354. 
URL:https://www.houston-cleancities.org/event/center-for-houstons-future-clean-hydrogen-workshop/
LOCATION:Partnership Tower\, 701 Avenida las Americas\, Houston\, 77010\, United States
END:VEVENT
BEGIN:VEVENT
DTSTART;VALUE=DATE:20240626
DTEND;VALUE=DATE:20240628
DTSTAMP:20260423T163754
CREATED:20240612T223338Z
LAST-MODIFIED:20240612T223338Z
UID:2932-1719360000-1719532799@www.houston-cleancities.org
SUMMARY:Hydrogen Technology Expo
DESCRIPTION:Hydrogen Technology Conference & Expo is North America’s must-attend exhibition and conference that is exclusively dedicated to discussing advanced technologies for the hydrogen and fuel cell industry. The event brings together the entire hydrogen value chain to focus on developing solutions and innovations for low-carbon hydrogen production\, efficient storage and distribution as well as applications in a variety of stationary and mobile applications.
URL:https://www.houston-cleancities.org/event/hydrogen-technology-expo/
LOCATION:NRG Center: Hall A\, 1 FANNIN ST\, Houston\, TX\, 77054\, United States
END:VEVENT
BEGIN:VEVENT
DTSTART;VALUE=DATE:20240621
DTEND;VALUE=DATE:20240626
DTSTAMP:20260423T163754
CREATED:20240528T225924Z
LAST-MODIFIED:20240528T225924Z
UID:2916-1718928000-1719359999@www.houston-cleancities.org
SUMMARY:Texas Association for Pupil Transportation (TAPT): Conference and Trade Show
DESCRIPTION:TAPT presents their annual conference and trade show each June as an educational event for their membership. The conference includes local\, state and national presenters on topics that address all areas of the pupil transportation industry. They host one of the largest equipment and trade shows in the school bus industry with exhibitors from many of the major school bus manufacturers\, parts suppliers\, technology vendors\, and support service providers. A full complement of TAPT professional development classes are offered to provide attendees the opportunity to develop and grow in the school transportation industry and earn professional credentials widely recognized as the mark of a true pupil transportation professional. Students from around the state are awarded with scholarships and are recognized for their hard work in the school bus safety speech and poster contests. The annual conference also serves as the official business meeting of the organization.
URL:https://www.houston-cleancities.org/event/texas-association-for-pupil-transportation-tapt-conference-and-trade-show/
LOCATION:The American Bank Center\, 1901 North Shoreline Blvd.\, Corpus Christi\, TX\, 78401
END:VEVENT
BEGIN:VEVENT
DTSTART;TZID=America/Chicago:20240618T120000
DTEND;TZID=America/Chicago:20240618T143000
DTSTAMP:20260423T163754
CREATED:20240612T221134Z
LAST-MODIFIED:20240612T224335Z
UID:2921-1718712000-1718721000@www.houston-cleancities.org
SUMMARY:2024 Q2 Stakeholder Meeting and Ride and Drive Event for School Buses
DESCRIPTION:The 2024 Quarter 2 Houston Clean Cities Stakeholders Meeting will have discussions on the Annual Survey\, Success Story from Cypress – Fairbanks ISD\, and updates from subcommittees to include availability of grant funds. \nIf attending in person\, please remain for the Ride and Drive event to be held directly afterwards. \nPlease complete this form to attend:  Attendee Form 
URL:https://www.houston-cleancities.org/event/2024-q2-stakeholder-meeting-and-ride-and-drive-event-for-school-buses/
LOCATION:Cypress Fairbanks SD Jarvis Transportation Center\, 13330 Woods-Spillane\, Cypress\, TX\, 77429\, United States
END:VEVENT
BEGIN:VEVENT
DTSTART;TZID=America/Chicago:20240611T090000
DTEND;TZID=America/Chicago:20240611T153000
DTSTAMP:20260423T163754
CREATED:20240528T214312Z
LAST-MODIFIED:20240528T214312Z
UID:2908-1718096400-1718119800@www.houston-cleancities.org
SUMMARY:North Central Texas Hydrogen User Forum
DESCRIPTION:The North Central Texas Hydrogen User Forum will focus on hydrogen adoption by industries in the DFW region. The forum will allow industry members to hear from their peers about the current and future state of hydrogen\, and give local utility planners (gas\, electric\, hydrogen suppliers) the chance to hear from industry so they can be prepared to meet future needs. Hydrogen technologies can be used in a wide variety of industries. Members of the Transportation\, Natural Gas blending\, Cement\, Steel\, Chip Manufacturing\, Electric Generation\, Glass Manufacturing\, Kiln Operations\, Renewable Fuels\, and Food Processing industries will benefit from this dialogue.
URL:https://www.houston-cleancities.org/event/north-central-texas-hydrogen-user-forum/
LOCATION:UT Arlington\, 300 West 1st Street\, Arlington\, TX
END:VEVENT
BEGIN:VEVENT
DTSTART;TZID=America/Chicago:20240605T110000
DTEND;TZID=America/Chicago:20240605T160000
DTSTAMP:20260423T163754
CREATED:20240528T224715Z
LAST-MODIFIED:20240528T224715Z
UID:2914-1717585200-1717603200@www.houston-cleancities.org
SUMMARY:Webinar: Ethanol Emergency Response & Steel Drum 101
DESCRIPTION:Steel Drums 101 Seminar – Provide First Responders with helpful information to better comprehend the components of steel drums. From understanding the difference between an open-head and a\ntight-head steel drum to being able to interpret the UN marking. The instructor will dive into the vital safety standards first responders need to know. \nEthanol Safety Seminar – Get an in-depth look at proper training techniques needed when responding to an ethanol – related emergency.
URL:https://www.houston-cleancities.org/event/webinar-ethanol-emergency-response-steel-drum-101/
END:VEVENT
BEGIN:VEVENT
DTSTART;TZID=America/Chicago:20240604T110000
DTEND;TZID=America/Chicago:20240604T130000
DTSTAMP:20260423T163754
CREATED:20240528T224407Z
LAST-MODIFIED:20240528T224407Z
UID:2912-1717498800-1717506000@www.houston-cleancities.org
SUMMARY:Safety Webinar: Ethanol Emergency Response
DESCRIPTION:Upon the completion of this course\, participants will have knowledge related to ethanol and ethanol-blended fuels including the use\, chemical and physical characteristics\, transportation modes\, transfer operations\, basics of foam\, suggested responder tactics and strategies and environmental issues. \n*Certificates upon successful completion will be emailed following the event
URL:https://www.houston-cleancities.org/event/safety-webinar-ethanol-emergency-response/
END:VEVENT
BEGIN:VEVENT
DTSTART;VALUE=DATE:20240520
DTEND;VALUE=DATE:20240524
DTSTAMP:20260423T163754
CREATED:20231116T165909Z
LAST-MODIFIED:20231116T165909Z
UID:2816-1716163200-1716508799@www.houston-cleancities.org
SUMMARY:Advance Clean Transportation Expo
DESCRIPTION:Las Vegas Convention Center\, Las Vegas\, Nv. \nGain insight into the trends\, technologies\, and policies transforming clean commercial transportation. Fleets attend to: \n\nHear low- and zero-emission vehicle case studies from early adopter fleets\nLearn how to take advantage of vehicle and infrastructure funding opportunities\nUnderstand how to stay ahead of the ever-changing regulatory landscape\nDiscover the latest technologies and services to support fleet sustainability\n\nThe world’s largest OEMs and suppliers present the latest advanced vehicles\, clean fuels\, sustainable transportation technologies and services. \n\nConnect with 300+ sponsors & exhibitors\nSee 250+ low- and zero-emission commercial vehicles\nWatch vehicle unveilings and major announcements live\nParticipate in the advanced commercial vehicle Ride & Drive event\n\n 
URL:https://www.houston-cleancities.org/event/advance-clean-transportation-expo/
END:VEVENT
BEGIN:VEVENT
DTSTART;TZID=America/Chicago:20240417T090000
DTEND;TZID=America/Chicago:20240417T203000
DTSTAMP:20260423T163754
CREATED:20240222T225152Z
LAST-MODIFIED:20240222T225152Z
UID:2880-1713344400-1713385800@www.houston-cleancities.org
SUMMARY:The Gulf Coast Hydrogen Ecosystem: Opportunities & Solutions
DESCRIPTION:UH Energy cordially invites you to attend to this comprehensive exploration of the various aspects surrounding the integration of hydrogen into the energy landscape\, and additionally\, we will examine the opportunities\, solutions\, and benefits of establishing a hydrogen ecosystem. Experts from academia\, industry\, government\, and the community will participate in an in-depth analysis and discussion covering technology\, business\, policy and regulations\, and community impact. A networking reception and poster session will follow the symposium. Lunch and dinner will be provided. \nUH Student Center South – Theater Room
URL:https://www.houston-cleancities.org/event/the-gulf-coast-hydrogen-ecosystem-opportunities-solutions/
LOCATION:University of Houston Student Center – South\, 4455 University Dr\, Houston\, TX\, 77204\, United States
END:VEVENT
BEGIN:VEVENT
DTSTART;TZID=America/Chicago:20240403T120000
DTEND;TZID=America/Chicago:20240403T130000
DTSTAMP:20260423T163754
CREATED:20240318T210308Z
LAST-MODIFIED:20240318T210308Z
UID:2903-1712145600-1712149200@www.houston-cleancities.org
SUMMARY:Roadmap to the Clean Bus Planning Technical Support Program - Online Webinar
DESCRIPTION:The National Renewable Energy Laboratory (NREL)and The Joint Office of Energy and Transportation are working to provide The Clean Bus Planning Awards (CBPA) Program. The CBPA is not an incentive program\, and fleets do not receive direct funding—rather\, selected applicants will be allocated technical assistance resources by NREL. \nYou may register for this free online event at: ZOOM
URL:https://www.houston-cleancities.org/event/roadmap-to-the-clean-bus-planning-technical-support-program-online-webinar/
END:VEVENT
BEGIN:VEVENT
DTSTART;VALUE=DATE:20240320
DTEND;VALUE=DATE:20240322
DTSTAMP:20260423T163754
CREATED:20231116T170745Z
LAST-MODIFIED:20231116T170745Z
UID:2818-1710892800-1711065599@www.houston-cleancities.org
SUMMARY:Future of RNG North America 2024
DESCRIPTION:Active Communication International (ACI): Future of RNG North America 2024 will be taking place on the 20th & 21st March 2024\, in Houston\, USA.  The conference will be the opportunity to highlight the industry’s current challenges and strategies for growth\, such as Project Financing\, Effectively Sourcing Labour and Identifying Emerging RNG End-Products.
URL:https://www.houston-cleancities.org/event/future-of-rng-north-america-2024/
END:VEVENT
BEGIN:VEVENT
DTSTART;VALUE=DATE:20240304
DTEND;VALUE=DATE:20240307
DTSTAMP:20260423T163754
CREATED:20240119T161839Z
LAST-MODIFIED:20240119T161839Z
UID:2858-1709510400-1709769599@www.houston-cleancities.org
SUMMARY:International Biomass Conference and Expo
DESCRIPTION:This dynamic event unites industry professionals from all sectors of the world’s interconnected biomass utilization industries—biobased power\, thermal energy\, fuels and chemicals. \nOrganized by BBI International and produced by Biomass Magazine\, this event brings current and future producers of bioenergy and biobased products together with waste generators\, energy crop growers\, municipal leaders\, utility executives\, technology providers\, equipment manufacturers\, project developers\, investors and policy makers. It’s a true one-stop shop – the world’s premier educational and networking junction for all biomass industries.
URL:https://www.houston-cleancities.org/event/international-biomass-conference-and-expo/
LOCATION:Greater Richmond Convention Center\, 403 North 3rd Street\, Richmond\, VA\, 23219\, United States
END:VEVENT
BEGIN:VEVENT
DTSTART;VALUE=DATE:20240228
DTEND;VALUE=DATE:20240301
DTSTAMP:20260423T163754
CREATED:20240222T230638Z
LAST-MODIFIED:20240222T230638Z
UID:2883-1709078400-1709251199@www.houston-cleancities.org
SUMMARY:4th AMERICAN HYDROGEN FORUM
DESCRIPTION:The 4th American Hydrogen Forum will provide an inclusive platform for industry experts\, thought leaders\, and policymakers to share their insights\, experiences\, and visions for the hydrogen-powered future. Attendees will gain invaluable insights into hydrogen production technologies\, infrastructure development\, policy frameworks\, and the role of hydrogen in decarbonizing various sectors.
URL:https://www.houston-cleancities.org/event/4th-american-hydrogen-forum/
LOCATION:The Westin – Galleria Houston\, 5060 W Alabama St\, Houston\, 77056\, United States
END:VEVENT
BEGIN:VEVENT
DTSTART;TZID=America/Chicago:20240221T130000
DTEND;TZID=America/Chicago:20240221T143000
DTSTAMP:20260423T163754
CREATED:20240119T163300Z
LAST-MODIFIED:20240119T163300Z
UID:2867-1708520400-1708525800@www.houston-cleancities.org
SUMMARY:Houston - Galveston Clean Cities Coalition Stakeholder Meeting
DESCRIPTION:2024 Q1 Stakeholder meeting is tentatively scheduled for February 21\, 2024 from 1:00 to 2:30 at the H-GAC offices.  E-mails will be sent to stakeholders and this website will be updated as meeting particulars are confirmed.
URL:https://www.houston-cleancities.org/event/houston-galveston-clean-cities-coalition-stakeholder-meeting-7/
LOCATION:H-GAC\, Room A\, 3555 Timmons Lane\, 2nd Floor\, Room A\, Houston\, TX\, 77027\, United States
ORGANIZER;CN="Houston-Galveston Clean Cities Coaltion":MAILTO:Mike.fuller@h-gac.com
END:VEVENT
BEGIN:VEVENT
DTSTART;TZID=America/Chicago:20240213T120000
DTEND;TZID=America/Chicago:20240213T130000
DTSTAMP:20260423T163754
CREATED:20240119T155625Z
LAST-MODIFIED:20240119T155625Z
UID:2846-1707825600-1707829200@www.houston-cleancities.org
SUMMARY:Alternative Fuel Vehicles Virtual Grant Workshop - New Year New Grants
DESCRIPTION:Hear about what’s on the horizon in TCEQ alternative fuel funding directly from grant applicants\, including preparation\, implementation\, management\, reporting\, and best practices. \nMeeting topics will include: \n\nA brief overview of anticipated 2024 TERP grant availability\nA deeper dive into grants that are open or anticipated to open over the next four months (Feb-May)\n\nWhat information do you need to apply? How do you apply? Is it worth applying?\nWhat can you get with each grant?\n\n\nTCEQ All-Electric TxVEMP grant program – up to 100% reimbursement for public entities\nDiscussions from Clean Cities stakeholders across Texas who have applied for and managed TCEQ grants\n\nClick here to register: Microsoft Virtual Events Powered by Teams
URL:https://www.houston-cleancities.org/event/alternative-fuel-vehicles-virtual-grant-workshop-new-year-new-grants/
LOCATION:Microsft TEAMS
END:VEVENT
BEGIN:VEVENT
DTSTART;VALUE=DATE:20240212
DTEND;VALUE=DATE:20240215
DTSTAMP:20260423T163754
CREATED:20240119T160646Z
LAST-MODIFIED:20240119T160646Z
UID:2850-1707696000-1707955199@www.houston-cleancities.org
SUMMARY:2024 Energy Independence Summit
DESCRIPTION:Please join IN PERSON at the Westin Washington\, D.C. City Center for Energy Independence Summit 2024. The 18th annual Summit will bring together leaders of the nation’s Clean Cities Coalitions\, the clean transportation industry\, the Biden Administration and Congress to accelerate strategies for advancing markets for clean fuels and vehicles. \nLEARN the latest information about the tens of billions of dollars the federal government will invest in clean transportation over the coming years. \nENGAGE with leaders from the EPA Clean School Bus Program\, the DOT Fueling Infrastructure Program\, the DOE Clean Hydrogen Program\, and the USDA Biofuels infrastructure program about how they plan to roll out funding in 2024. \nNETWORK with Clean Cities and industry leaders to learn about the latest technologies and strategies to advance clean fuels and vehicles. \nMEET with your House and Senate offices to make sure they know how important it is to continue to invest in clean transportation programs and technologies that benefit all communities.
URL:https://www.houston-cleancities.org/event/2024-energy-independence-summit/
LOCATION:Washington DC
END:VEVENT
BEGIN:VEVENT
DTSTART;TZID=America/Chicago:20240111T160000
DTEND;TZID=America/Chicago:20240111T190000
DTSTAMP:20260423T163754
CREATED:20231222T160442Z
LAST-MODIFIED:20231222T160442Z
UID:2834-1704988800-1704999600@www.houston-cleancities.org
SUMMARY:Texas Hydrogen Alliance In-Person Meeting and Networking Event
DESCRIPTION:Hear from the Texas Hydrogen Alliance\, Rystad Energy\, Railroad Commission of Texas (invited) and HyVelocity! \n\n\n\nThank you to our host\, Foley & Lardner LLP for providing complimentary valet parking located at: 1000 Louisiana St\, Houston\, TX 77002 \n  \nRSVP by Monday\, January 8\, 2024 at susan@s3-services.com or 979-270-2045.
URL:https://www.houston-cleancities.org/event/texas-hydrogen-alliance-in-person-meeting-and-networking-event/
LOCATION:1000 Louisiana St Houston\, TX 77002\, 1000 Louisiana St\, Houston\, TX\, 77002\, United States
ORGANIZER;CN="Texas Hydrogen Alliance":MAILTO:susan@s3-services.com
END:VEVENT
BEGIN:VEVENT
DTSTART;TZID=America/Chicago:20231212T100000
DTEND;TZID=America/Chicago:20231212T130000
DTSTAMP:20260423T163754
CREATED:20231207T201122Z
LAST-MODIFIED:20231207T201122Z
UID:2822-1702375200-1702386000@www.houston-cleancities.org
SUMMARY:Innovation Ribbon Cutting: Autonomous Shuttle and Electric Bus Ribbon Cutting
DESCRIPTION:METRO’s Board of Directors and President & CEO cordially invite you to experience the unveiling of TWO next-level transit vehicles: METRO’s first electric bus and METRO FutureLink\, the Authority’s all-new autonomous shuttle. \nPlease register by December 11\, 2023 to attend at: \nQualtrics Survey | Qualtrics Experience Management
URL:https://www.houston-cleancities.org/event/innovation-ribbon-cutting-autonomous-shuttle-and-electric-bus-ribbon-cutting/
LOCATION:Kashmere Bus Operating Facility\, 5700 Eastex Fwy\, Houston\, Tx\, 77026
END:VEVENT
BEGIN:VEVENT
DTSTART;VALUE=DATE:20231211
DTEND;VALUE=DATE:20231215
DTSTAMP:20260423T163754
CREATED:20231116T165434Z
LAST-MODIFIED:20231116T165434Z
UID:2814-1702252800-1702598399@www.houston-cleancities.org
SUMMARY:North America Renewable Natural Gas Conference
DESCRIPTION:RNG CONFERENCE\, the annual gathering of RNG leaders from across North America and around the world\, takes place December 11 – 14\, 2023 at the Waldorf Astoria Monarch Beach Resort & Club\, a Five-Star\, Five-Diamond venue in Dana Point\, the crown-jewel of southern California’s Orange County.
URL:https://www.houston-cleancities.org/event/north-america-renewable-natural-gas-conference/
END:VEVENT
BEGIN:VEVENT
DTSTART;TZID=America/Chicago:20231205T120000
DTEND;TZID=America/Chicago:20231205T130000
DTSTAMP:20260423T163754
CREATED:20231116T164644Z
LAST-MODIFIED:20231116T164743Z
UID:2811-1701777600-1701781200@www.houston-cleancities.org
SUMMARY:Lunch and Learn: How to Claim Your Natural Gas & Propane Federal Motor Fuel Tax Credit
DESCRIPTION:The Houston-Galveston Clean Cities Coalition is hosting a Lunch & Learn Workshop Webinar with the Lone Star Clean Fuels Alliance and the Texas Natural Gas Foundation. Come learn how to claim your natural gas and propane fuel tax credit. \nPlease fill out this form to register.
URL:https://www.houston-cleancities.org/event/lunch-and-learn-how-to-claim-your-natural-gas-propane-federal-motor-fuel-tax-credit/
END:VEVENT
BEGIN:VEVENT
DTSTART;TZID=America/Chicago:20231115T140000
DTEND;TZID=America/Chicago:20231115T153000
DTSTAMP:20260423T163754
CREATED:20231116T164146Z
LAST-MODIFIED:20231116T164146Z
UID:2809-1700056800-1700062200@www.houston-cleancities.org
SUMMARY:Q4 2023 Stakeholder Meeting
DESCRIPTION:The Houston-Galveston Quarter 4 Stakeholder Meeting for 2023 will have presentations on: Update on the Hydrogen Hub; Clean School Bus Program and Alternative Fuels; Update on the Redesignation Process; Update on the Advisory Board and Subcommittees; and Current Funding Announcements.
URL:https://www.houston-cleancities.org/event/q4-2023-stakeholder-meeting/
END:VEVENT
BEGIN:VEVENT
DTSTART;TZID=America/Chicago:20230823T120000
DTEND;TZID=America/Chicago:20230823T130000
DTSTAMP:20260423T163754
CREATED:20230809T123706Z
LAST-MODIFIED:20230809T123706Z
UID:2754-1692792000-1692795600@www.houston-cleancities.org
SUMMARY:Lunch and Learn Webinar: Renewable Natural Gas and Propane
DESCRIPTION:The Houston-Galveston Clean Cities Coalition is hosting a Lunch and Learn Webinar with the Lone Star Clean Fuels Alliance and the Texas Natural Gas Foundation.  Come hear why many fleet managers across Texas are transitioning to renewable natural gas and propane\, and share your experiences.  Click here to register and complete a pre-meeting survey.
URL:https://www.houston-cleancities.org/event/lunch-and-learn-webinar-renewable-natural-gas-and-propane/
END:VEVENT
BEGIN:VEVENT
DTSTART;VALUE=DATE:20230822
DTEND;VALUE=DATE:20230825
DTSTAMP:20260423T163754
CREATED:20230516T165549Z
LAST-MODIFIED:20230516T165549Z
UID:2737-1692662400-1692921599@www.houston-cleancities.org
SUMMARY:Green Transportation Summit and Expo (GTSE)
DESCRIPTION:(Tacoma\,Wa.) \nThe GTSE is an incubator for collaboration and innovation. Each year\, GTSE attendees leave with more resources\, more connections\, and even more determination toward the “Acceleration to Zero”. With wide and diverse participation between partners and attendees\, the “Road to Zero” starts in Tacoma. \nSessions and Workshops include: \n• People of Color in Green Spaces\n• The Great Western Carbon Conference\n• Live Demonstration in Expo Hall – EV High-Voltage Tech Training\n• AccelerateH2 (Hydrogen Fuel Cell Program Track)
URL:https://www.houston-cleancities.org/event/green-transportation-summit-and-expo-gtse/
END:VEVENT
BEGIN:VEVENT
DTSTART;TZID=America/Chicago:20230809T093000
DTEND;TZID=America/Chicago:20230809T223000
DTSTAMP:20260423T163754
CREATED:20230809T124322Z
LAST-MODIFIED:20230809T124630Z
UID:2756-1691573400-1691620200@www.houston-cleancities.org
SUMMARY:Q3 2023 Stakeholder Meeting
DESCRIPTION:The Houston-Galveston Quarter 3 Stakeholder Meeting for 2023 will have presentations on: \n\nUpdate on Natural Gas Issues and Activities\nDepartment of Energy Grant Application: Repowering for Electric School Buses\nUpdate on the Redesignation Process\nStrategic Plan\nCurrent Funding Announcements\n\nPlease click here for meeting materials (some meeting materials will be uploaded after the meeting)
URL:https://www.houston-cleancities.org/event/q3-2023-stakeholder-meeting/
END:VEVENT
BEGIN:VEVENT
DTSTART;TZID=America/Chicago:20230630T090000
DTEND;TZID=America/Chicago:20230630T110000
DTSTAMP:20260423T163754
CREATED:20230516T170033Z
LAST-MODIFIED:20230516T170033Z
UID:2739-1688115600-1688122800@www.houston-cleancities.org
SUMMARY:Houston-Galveston Clean Cities Redesignation Webinar
DESCRIPTION:Join us for the Redesignation Webinar.  We will be reviewing past work\, and discussing future expectations.
URL:https://www.houston-cleancities.org/event/houston-galveston-clean-cities-redesignation-webinar/
END:VEVENT
BEGIN:VEVENT
DTSTART;TZID=America/Chicago:20230309T110000
DTEND;TZID=America/Chicago:20230309T120000
DTSTAMP:20260423T163754
CREATED:20230227T233746Z
LAST-MODIFIED:20230227T233746Z
UID:2686-1678359600-1678363200@www.houston-cleancities.org
SUMMARY:Texas NGV Grant Program Webinar
DESCRIPTION:The deadline for TCEQ’s Texas NGV Grant Program is rapidly approaching: March 31\, 2023.  Texas Clean Fuels Alliance will be hosting a webinar to bring more awareness to the available funding\, and to help answer any questions from possible applicants.  Additionally\, they will be discussing the Texas Clean Fuels Alliance’s legislative efforts. \nLink to Eventbrite: https://www.eventbrite.com/e/terps-texas-ngv-grant-program-and-legislative-webinar-tickets-565290658577
URL:https://www.houston-cleancities.org/event/texas-ngv-grant-program-webinar/
END:VEVENT
BEGIN:VEVENT
DTSTART;TZID=America/Chicago:20230302T080000
DTEND;TZID=America/Chicago:20230302T170000
DTSTAMP:20260423T163754
CREATED:20230223T194349Z
LAST-MODIFIED:20230223T194349Z
UID:2684-1677744000-1677776400@www.houston-cleancities.org
SUMMARY:Infraday Texas (Austin\, Tx.)
DESCRIPTION:Infraday Texas will feature presentations and panels on broadband\, city development\, electric & autonomous vehicles\, climate\, energy\, shared-mobility\, industrial\, social\, telecommunications\, water\, and transportation infrastructure.  You may find more information at: www.infraday.com/texas.
URL:https://www.houston-cleancities.org/event/infraday-texas-austin-tx/
END:VEVENT
END:VCALENDAR