BEGIN:VCALENDAR
VERSION:2.0
PRODID:-//Houston-Galveston Clean Cities Coalition - ECPv6.15.3//NONSGML v1.0//EN
CALSCALE:GREGORIAN
METHOD:PUBLISH
X-WR-CALNAME:Houston-Galveston Clean Cities Coalition
X-ORIGINAL-URL:https://www.houston-cleancities.org
X-WR-CALDESC:Events for Houston-Galveston Clean Cities Coalition
REFRESH-INTERVAL;VALUE=DURATION:PT1H
X-Robots-Tag:noindex
X-PUBLISHED-TTL:PT1H
BEGIN:VTIMEZONE
TZID:America/Chicago
BEGIN:DAYLIGHT
TZOFFSETFROM:-0600
TZOFFSETTO:-0500
TZNAME:CDT
DTSTART:20260308T080000
END:DAYLIGHT
BEGIN:STANDARD
TZOFFSETFROM:-0500
TZOFFSETTO:-0600
TZNAME:CST
DTSTART:20261101T070000
END:STANDARD
END:VTIMEZONE
BEGIN:VEVENT
DTSTART;VALUE=DATE:20260310
DTEND;VALUE=DATE:20260313
DTSTAMP:20260423T105158
CREATED:20260129T215647Z
LAST-MODIFIED:20260129T215647Z
UID:3229-1773100800-1773359999@www.houston-cleancities.org
SUMMARY:World Hydrogen and Carbon Americas
DESCRIPTION:This event brings together leaders from across the value chain to exchange practical insights\, share project updates\, and build partnerships that move the industry forward. \nIn a time of evolving policy\, tight project timelines\, and market uncertainty\, World Hydrogen & Carbon Americas provides a grounded\, solutions-focused forum to discuss what’s working\, what’s next\, and where collaboration can deliver results. \nFree passed MIGHT be available through the Texas Hydrogen Alliance.
URL:https://www.houston-cleancities.org/event/world-hydrogen-and-carbon-americas/
LOCATION:Marriott Marquis\, 1777 Walker St.\, Houston\, TX\, 77010\, United States
END:VEVENT
BEGIN:VEVENT
DTSTART;VALUE=DATE:20260317
DTEND;VALUE=DATE:20260320
DTSTAMP:20260423T105158
CREATED:20260126T195834Z
LAST-MODIFIED:20260126T195834Z
UID:3217-1773705600-1773964799@www.houston-cleancities.org
SUMMARY:EV Charging Summit & Expo
DESCRIPTION:EV Charging Summit & Expo is North America’s largest and most influential event dedicated to the electrification of transportation infrastructure.  It’s where professionals shaping the future of mobility weave together the threads of innovation\, policy\, finance\, and technology.
URL:https://www.houston-cleancities.org/event/ev-charging-summit-expo/
LOCATION:The Westgate Las Vegas Resort\, 3000 Paradise Rd\, Las Vegas\, NV\, 89109\, United States
END:VEVENT
END:VCALENDAR